BEGIN:VCALENDAR
VERSION:2.0
PRODID:-//ChamberMaster//Event Calendar 2.0//EN
METHOD:PUBLISH
X-PUBLISHED-TTL:P3D
REFRESH-INTERVAL:P3D
CALSCALE:GREGORIAN
BEGIN:VEVENT
DTSTART:20140925T220000Z
DTEND:20140926T000000Z
X-MICROSOFT-CDO-ALLDAYEVENT:FALSE
SUMMARY:BAH: United Way
DESCRIPTION:Kick Up Your Heels! Join us for our 2015 Campaign Kickoff/Business After Hours featuring LIVE entertainment provided by Dave Larbakken of the Innocence and... a special performance from Kyle Means and Josh Jelden.
X-ALT-DESC;FMTTYPE=text/html:Kick Up Your Heels! Join us for our 2015 Campaign Kickoff/Business After Hours featuring LIVE entertainment provided by Dave Larbakken of the Innocence and... a special performance from Kyle Means and Josh Jelden.
LOCATION:4009 6th Ave\, Ste 19
UID:e.1404.4429
SEQUENCE:3
DTSTAMP:20260423T065752Z
URL:https://members.kearneycoc.org/events/details/bah-united-way-09-25-2014-4429
END:VEVENT

END:VCALENDAR
