BEGIN:VCALENDAR
VERSION:2.0
PRODID:-//ChamberMaster//Event Calendar 2.0//EN
METHOD:PUBLISH
X-PUBLISHED-TTL:P3D
REFRESH-INTERVAL:P3D
CALSCALE:GREGORIAN
BEGIN:VEVENT
DTSTART:20130926T220000Z
DTEND:20130927T000000Z
X-MICROSOFT-CDO-ALLDAYEVENT:FALSE
SUMMARY:BAH: United Way
DESCRIPTION:Join us for our 2014 Campaign Kickoff/ Business After Hours as we celebrate the 50th Anniversary for the United Way of the Kearney Area. Drinks and hors d'oeuvres will be served. \n\n\n\nAlso\, don't miss a chance to see United Way co-chairs take the court in a short one-on-one match up! Take your bets on either Team Schnieders or Team Barney to see who will take home a win for United Way!
X-ALT-DESC;FMTTYPE=text/html:Join us for our 2014 Campaign Kickoff/ Business After Hours as we celebrate the 50th Anniversary for the United Way of the Kearney Area. Drinks and hors d&#39\;oeuvres will be served.&nbsp\;<br />\n<br />\nAlso\, don&#39\;t miss a chance to see United Way co-chairs take the court in a short one-on-one match up! Take your bets on either Team Schnieders or Team Barney to see who will take home a win for United Way!
LOCATION:Good Samaritan Hospital Cafeteria
UID:e.1404.2489
SEQUENCE:3
DTSTAMP:20260424T020826Z
URL:https://members.kearneycoc.org/events/details/bah-united-way-09-26-2013-2489
END:VEVENT

END:VCALENDAR
