BEGIN:VCALENDAR
VERSION:2.0
PRODID:-//ChamberMaster//Event Calendar 2.0//EN
METHOD:PUBLISH
X-PUBLISHED-TTL:P3D
REFRESH-INTERVAL:P3D
CALSCALE:GREGORIAN
BEGIN:VEVENT
DTSTART:20200910T220000Z
DTEND:20200911T000000Z
X-MICROSOFT-CDO-ALLDAYEVENT:FALSE
SUMMARY:BAH - United Way of the Kearney Area
DESCRIPTION:Join us for a Business After Hours with the United Way of the Kearney Area at The Village!
X-ALT-DESC;FMTTYPE=text/html:Join us for a Business After Hours with the <a href="https://www.uwka.org/">United Way of the Kearney Area</a> at <a href="https://ittakesavillagekearney.com/">The Village</a>!
LOCATION:The Village 1920 A Ave Kearney Ne
UID:e.1404.18672
SEQUENCE:3
DTSTAMP:20260425T002606Z
URL:https://members.kearneycoc.org/events/details/bah-united-way-of-the-kearney-area-18672
END:VEVENT

END:VCALENDAR
