BEGIN:VCALENDAR
VERSION:2.0
PRODID:-//ChamberMaster//Event Calendar 2.0//EN
METHOD:PUBLISH
X-PUBLISHED-TTL:P3D
REFRESH-INTERVAL:P3D
CALSCALE:GREGORIAN
BEGIN:VEVENT
DTSTART:20210826T220000Z
DTEND:20210827T000000Z
X-MICROSOFT-CDO-ALLDAYEVENT:FALSE
SUMMARY:BAH - United Way of the Kearney Area
DESCRIPTION:Join us for a Business After Hours event to celebrate the 2021 United Way Campaign kickoff!
X-ALT-DESC;FMTTYPE=text/html:Join us for a Business After Hours event to celebrate the 2021 United Way Campaign kickoff!
LOCATION:Hosted at Midway Chrysler Dodge Jeep Ram 219 2nd Ave. E Kearney
UID:e.1404.19265
SEQUENCE:3
DTSTAMP:20260424T021709Z
URL:https://members.kearneycoc.org/events/details/bah-united-way-of-the-kearney-area-19265
END:VEVENT

END:VCALENDAR
