BEGIN:VCALENDAR
VERSION:2.0
PRODID:-//ChamberMaster//Event Calendar 2.0//EN
METHOD:PUBLISH
X-PUBLISHED-TTL:P3D
REFRESH-INTERVAL:P3D
CALSCALE:GREGORIAN
BEGIN:VEVENT
DTSTART:20140130T230000Z
DTEND:20140131T010000Z
X-MICROSOFT-CDO-ALLDAYEVENT:FALSE
SUMMARY:BAH - UNK Athletics
DESCRIPTION:One free general admission ticket to Doubleheader\, food and beverage served. Check-in at the West will call table to receive your free admission. Additional Tickets available at event for regular price.
X-ALT-DESC;FMTTYPE=text/html:<span style="font-family: Arial\;">One free general admission ticket to Doubleheader\, food and beverage served. Check-in at the West will call table to receive your free admission. Additional Tickets available at event for regular price.</span><br />\n<br />\n<br />\n
LOCATION:Health & Sports Center 2501 15th Ave\, Kearney\, NE
UID:e.1404.3369
SEQUENCE:3
DTSTAMP:20260423T195228Z
URL:https://members.kearneycoc.org/events/details/bah-unk-athletics-01-30-2014-3369
END:VEVENT

END:VCALENDAR
