BEGIN:VCALENDAR
VERSION:2.0
PRODID:-//ChamberMaster//Event Calendar 2.0//EN
METHOD:PUBLISH
X-PUBLISHED-TTL:P3D
REFRESH-INTERVAL:P3D
CALSCALE:GREGORIAN
BEGIN:VEVENT
DTSTART:20140618T220000Z
DTEND:20140619T000000Z
X-MICROSOFT-CDO-ALLDAYEVENT:FALSE
SUMMARY:BAH: USA Communications
DESCRIPTION:Connecting Our Community   We connect you to the world and support the community we live in. \n\nUSA Communications invites you and your employees to enjoy an evening of appetizers\, drinks and companionship at our 2nd Annual Business After Hours event. \n\n\n	Enjoy food and drink catered by Country Catering\n	See for yourself how fast Fiber Optic Data can be\n	Meet the owners\n	Meet our Local Commercial Services Representative and Local Customer Service Staff\n	Learn about our plans for the future\n	Door prizes and V.I.P. drawing
X-ALT-DESC;FMTTYPE=text/html:<span style="color: rgb(31\, 73\, 125)\;"><span style="font-size: medium\;"><span style="font-family: calibri\;">Connecting Our Community &ndash\; We connect you to the world and support the community we live in. </span></span></span><br />\n<span style="color: rgb(31\, 73\, 125)\;"><span style="font-size: medium\;"><span style="font-family: calibri\;">USA Communications invites you and your employees to enjoy an evening of appetizers\, drinks and companionship at our 2nd Annual Business After Hours event.&nbsp\;</span></span></span>\n\n<ul>\n	<li><span style="color: rgb(31\, 73\, 125)\;"><span style="font-size: medium\;"><span style="font-family: calibri\;">Enjoy food and drink catered by Country Catering</span></span></span></li>\n	<li><span style="color: rgb(31\, 73\, 125)\;"><span style="font-size: medium\;"><span style="font-family: calibri\;">See for yourself how fast Fiber Optic Data can be</span></span></span></li>\n	<li><span style="color: rgb(31\, 73\, 125)\;"><span style="font-size: medium\;"><span style="font-family: calibri\;">Meet the owners</span></span></span></li>\n	<li><span style="color: rgb(31\, 73\, 125)\;"><span style="font-size: medium\;"><span style="font-family: calibri\;">Meet our Local Commercial Services Representative and Local Customer Service Staff</span></span></span></li>\n	<li><span style="color: rgb(31\, 73\, 125)\;"><span style="font-size: medium\;"><span style="font-family: calibri\;">Learn about our plans for the future</span></span></span></li>\n	<li><span style="color: rgb(31\, 73\, 125)\;"><span style="font-size: medium\;"><span style="font-family: calibri\;">Door prizes and V.I.P. drawing</span></span></span></li>\n</ul>\n
LOCATION:920 E. 56th Street\, Suite B Kearney
UID:e.1404.4437
SEQUENCE:3
DTSTAMP:20260423T113658Z
URL:https://members.kearneycoc.org/events/details/bah-usa-communications-06-18-2014-4437
END:VEVENT

END:VCALENDAR
