BEGIN:VCALENDAR
VERSION:2.0
PRODID:-//ChamberMaster//Event Calendar 2.0//EN
METHOD:PUBLISH
X-PUBLISHED-TTL:P3D
REFRESH-INTERVAL:P3D
CALSCALE:GREGORIAN
BEGIN:VEVENT
DTSTART:20200109T230000Z
DTEND:20200110T010000Z
X-MICROSOFT-CDO-ALLDAYEVENT:FALSE
SUMMARY:BAH - Viaero Center
DESCRIPTION:Join us for Business After Hours with Viaero Center! Please come and join us for an array of delicious food\, including our chef's "Live Build Your Own Pasta Station" with over 16 options to select from!\n\nCocktails are included. Learn about all of the exciting things happening with our new ownership and\n\nmanagement team!
X-ALT-DESC;FMTTYPE=text/html:Join us for Business After Hours with Viaero Center!&nbsp\;Please come and join us for an array of delicious food\, including our chef&#39\;s &quot\;Live Build Your Own Pasta Station&quot\; with over 16 options to select from!<br />\nCocktails are included. Learn about all of the exciting things happening with our new ownership and<br />\nmanagement team!
LOCATION:Viaero Center 609 Platte Rd
UID:e.1404.18264
SEQUENCE:3
DTSTAMP:20260425T132421Z
URL:https://members.kearneycoc.org/events/details/bah-viaero-center-18264
END:VEVENT

END:VCALENDAR
