BEGIN:VCALENDAR
VERSION:2.0
PRODID:-//ChamberMaster//Event Calendar 2.0//EN
METHOD:PUBLISH
X-PUBLISHED-TTL:P3D
REFRESH-INTERVAL:P3D
CALSCALE:GREGORIAN
BEGIN:VEVENT
DTSTART:20131205T230000Z
DTEND:20131206T010000Z
X-MICROSOFT-CDO-ALLDAYEVENT:FALSE
SUMMARY:BAH: Viaero Event Center/ Viaero Wireless
DESCRIPTION:Viaero Event Center and Viaero Wireless are hosting a Business After Hours on Thursday\, December 5th from 5:00 pm-7:00 pm.  Enjoy appetizers from Dickey's Barbecue Pit\, complimentary beverages\, a golf simulator challenge\, prizes and more! \n\n \n\nThis will be held at the Event Center\, 609 Platte Rd.  For questions please contact the chamber at (308) 237-3101.
X-ALT-DESC;FMTTYPE=text/html:<span style="font-family:arial\,sans-serif\;"><span style="font-size:9pt\;">Viaero&nbsp\;Event Center and&nbsp\;Viaero&nbsp\;Wireless are hosting a Business After Hours on Thursday\, December&nbsp\;5th&nbsp\;from 5:00 pm-7:00 pm.&nbsp\; Enjoy appetizers from Dickey&#39\;s Barbecue Pit\, complimentary beverages\, a golf simulator challenge\, prizes and more! </span></span><br />\n&nbsp\;<br />\n<span style="font-family:arial\,sans-serif\;"><span style="font-size:9pt\;">This will be held at the Event Center\, 609 Platte Rd.&nbsp\; For questions please contact the chamber at (308) 237-3101. &nbsp\;</span></span><br />\n
LOCATION:
UID:e.1404.3318
SEQUENCE:3
DTSTAMP:20260423T212938Z
URL:https://members.kearneycoc.org/events/details/bah-viaero-event-center-viaero-wireless-12-05-2013-3318
END:VEVENT

END:VCALENDAR
