BEGIN:VCALENDAR
VERSION:2.0
PRODID:-//ChamberMaster//Event Calendar 2.0//EN
METHOD:PUBLISH
X-PUBLISHED-TTL:P3D
REFRESH-INTERVAL:P3D
CALSCALE:GREGORIAN
BEGIN:VEVENT
DTSTART:20160225T230000Z
DTEND:20160226T010000Z
X-MICROSOFT-CDO-ALLDAYEVENT:FALSE
SUMMARY:BAH: Wilkins Architecture Design & Planning
DESCRIPTION:Join us for Business After Hours at Wilkins Architecture Design Planning! Great food and refreshments from Cunningham's and Chapman Swifts\, door prizes and networking! Staff will be giving tours of the office\, plus check out their presentation boards from past\, current and future projects! Don't miss it!
X-ALT-DESC;FMTTYPE=text/html:Join us for Business After Hours at Wilkins Architecture Design Planning! Great food and refreshments from Cunningham&#39\;s and Chapman Swifts\, door prizes and networking! Staff will be giving tours of the office\, plus check out their presentation boards from past\, current and future projects! Don&#39\;t miss it!
LOCATION:2908 West 39th Street
UID:e.1404.7065
SEQUENCE:3
DTSTAMP:20260422T012142Z
URL:https://members.kearneycoc.org/events/details/bah-wilkins-architecture-design-planning-02-25-2016-7065
END:VEVENT

END:VCALENDAR
