BEGIN:VCALENDAR
VERSION:2.0
PRODID:-//ChamberMaster//Event Calendar 2.0//EN
METHOD:PUBLISH
X-PUBLISHED-TTL:P3D
REFRESH-INTERVAL:P3D
CALSCALE:GREGORIAN
BEGIN:VEVENT
DTSTART:20150528T220000Z
DTEND:20150529T000000Z
X-MICROSOFT-CDO-ALLDAYEVENT:FALSE
SUMMARY:BAH: Xpanxion
DESCRIPTION:Come out and enjoy the Business After Hours at Xpanxion! Register to win a golf gift basket that includes 2 rounds of golf with carts at the Kearney Country Club. Food and beverages provided by Cunningham's!
X-ALT-DESC;FMTTYPE=text/html:Come out and enjoy the Business After Hours at Xpanxion! Register to win&nbsp\;a golf gift basket that includes 2 rounds of golf with carts at the Kearney Country Club. Food and beverages provided by Cunningham&#39\;s!
LOCATION:810 East 56th St. Ste 1
UID:e.1404.6220
SEQUENCE:3
DTSTAMP:20260422T165047Z
URL:https://members.kearneycoc.org/events/details/bah-xpanxion-05-28-2015-6220
END:VEVENT

END:VCALENDAR
