BEGIN:VCALENDAR
VERSION:2.0
PRODID:-//ChamberMaster//Event Calendar 2.0//EN
METHOD:PUBLISH
X-PUBLISHED-TTL:P3D
REFRESH-INTERVAL:P3D
CALSCALE:GREGORIAN
BEGIN:VEVENT
DTSTART:20201003T000000Z
DTEND:20201003T020000Z
X-MICROSOFT-CDO-ALLDAYEVENT:FALSE
SUMMARY:Bar J Wranglers
DESCRIPTION:This is the rescheduled performance of the 'Bar J Wranglers' at the Merryman Performing Arts Center\, presented by the Kearney Cosmos. The Kearney Cosmos Club presents The Bar J Wranglers\, world famous singing cowboys from Jackson Hole\, Wyoming\, will entertain the entire family with western harmonies straight from the range\, cowboy stories and jokes and stories that will have you laughing in the aisles\, and an evening of inspiration that will continue to lift your spirits long after the show.
X-ALT-DESC;FMTTYPE=text/html:This is the rescheduled performance of the &#39\;Bar J Wranglers&#39\; at the Merryman Performing Arts Center\, presented by the Kearney Cosmos. The Kearney Cosmos Club presents The Bar J Wranglers\, world famous singing cowboys from Jackson Hole\, Wyoming\, will entertain the entire family with western harmonies straight from the range\, cowboy stories and jokes and stories that will have you laughing in the aisles\, and an evening of inspiration that will continue to lift your spirits long after the show.
LOCATION:Merryman Performing Arts Center 225 W. 22nd St Kearney\, NE 68845
UID:e.1404.18671
SEQUENCE:3
DTSTAMP:20260424T204809Z
URL:https://members.kearneycoc.org/events/details/bar-j-wranglers-10-02-2020-18671
END:VEVENT

END:VCALENDAR
