BEGIN:VCALENDAR
VERSION:2.0
PRODID:-//ChamberMaster//Event Calendar 2.0//EN
METHOD:PUBLISH
X-PUBLISHED-TTL:P3D
REFRESH-INTERVAL:P3D
CALSCALE:GREGORIAN
BEGIN:VEVENT
DTSTART:20211008T000000Z
DTEND:20211008T023000Z
X-MICROSOFT-CDO-ALLDAYEVENT:FALSE
SUMMARY:Bar J Wranglers
DESCRIPTION:Come experience some good ole' fashioned cowboy fun here at the Merryman with the Bar J Wranglers! Pure harmony\, great musicianship\, and funniest ranch humor in the West\, it is sure to be a night to remember. A fun\, performance the whole family can enjoy! Presented by the Kearney Cosmos. Masks are optional for fully vaccinated persons at our venue\, and seating will be at FULL CAPACITY! Tickets are on sale now at pickmytickets.com or by calling box office at (308) 698-8297
X-ALT-DESC;FMTTYPE=text/html:Come experience some good ole&#39\; fashioned cowboy fun here at the Merryman with the Bar J Wranglers! Pure harmony\, great musicianship\, and funniest ranch humor in the West\, it is sure to be a night to remember. A fun\, performance the whole family can enjoy! Presented by the Kearney Cosmos. Masks are optional for fully vaccinated persons at our venue\, and seating will be at FULL CAPACITY! Tickets are on sale now at pickmytickets.com or by calling box office at (308) 698-8297
LOCATION:Merryman Performing Arts Center 225 W 22nd Street Kearney\, NE
UID:e.1404.19394
SEQUENCE:3
DTSTAMP:20260423T232722Z
URL:https://members.kearneycoc.org/events/details/bar-j-wranglers-10-07-2021-19394
END:VEVENT

END:VCALENDAR
