BEGIN:VCALENDAR
VERSION:2.0
PRODID:-//ChamberMaster//Event Calendar 2.0//EN
METHOD:PUBLISH
X-PUBLISHED-TTL:P3D
REFRESH-INTERVAL:P3D
CALSCALE:GREGORIAN
BEGIN:VEVENT
DTSTART;VALUE=DATE:20150918
DTEND;VALUE=DATE:20150920
TRANSP:TRANSPARENT
X-MICROSOFT-CDO-ALLDAYEVENT:TRUE
SUMMARY:BBQ on the Bricks
DESCRIPTION:Prepare to unleash your inner carnivore. Bring your family\, friends and appetite to the BBQ ON THE BRICKS in DOWNTOWN KEARNEY. This festival will have you licking your lips for two days straight\, featuring a BBQ competition sanctioned by the Kansas City Barbecue Society\, tailgating fun\, food vendors\, cold craft Nebraskan beer and entertainment including live music by Lemon Fresh Day.
X-ALT-DESC;FMTTYPE=text/html:Prepare to unleash your inner carnivore. Bring your family\, friends and appetite to the BBQ ON THE BRICKS in DOWNTOWN KEARNEY. This festival will have you licking your lips for two days straight\, featuring a BBQ competition sanctioned by the Kansas City Barbecue Society\, tailgating fun\, food vendors\, cold craft Nebraskan beer and entertainment including live music by Lemon Fresh Day.
LOCATION:
UID:e.1404.6476
SEQUENCE:3
DTSTAMP:20260422T100358Z
URL:https://members.kearneycoc.org/events/details/bbq-on-the-bricks-09-18-2015-6476
END:VEVENT

END:VCALENDAR
