BEGIN:VCALENDAR
VERSION:2.0
PRODID:-//ChamberMaster//Event Calendar 2.0//EN
METHOD:PUBLISH
X-PUBLISHED-TTL:P3D
REFRESH-INTERVAL:P3D
CALSCALE:GREGORIAN
BEGIN:VEVENT
DTSTART:20150917T230000Z
DTEND:20150918T020000Z
X-MICROSOFT-CDO-ALLDAYEVENT:FALSE
SUMMARY:BBQ on the Bricks Judging Class
DESCRIPTION:Become a certified judge for the BBQ on the Bricks event!
X-ALT-DESC;FMTTYPE=text/html:Become a certified judge for the BBQ on the Bricks event!
LOCATION:Family Fresh Market
UID:e.1404.6477
SEQUENCE:3
DTSTAMP:20260422T100407Z
URL:https://members.kearneycoc.org/events/details/bbq-on-the-bricks-judging-class-09-17-2015-6477
END:VEVENT

END:VCALENDAR
