BEGIN:VCALENDAR
VERSION:2.0
PRODID:-//ChamberMaster//Event Calendar 2.0//EN
METHOD:PUBLISH
X-PUBLISHED-TTL:P3D
REFRESH-INTERVAL:P3D
CALSCALE:GREGORIAN
BEGIN:VEVENT
DTSTART:20140314T140000Z
DTEND:20140315T010000Z
X-MICROSOFT-CDO-ALLDAYEVENT:FALSE
SUMMARY:Beads in a Box Going out of Business Sale
DESCRIPTION:After 10 years\, it's been a great run\; we've had lots of fun and it's time to move on to new things. Please forward our Going Out of Business flyer to everyone who might be interested. Thanks for all your help in helping to get people to our sale. Hope you can come join us on March 14th or 15th.\n\n Take care\,\n\n \n\nKyla Martin and Karen K Lueck\n\nBeads in a Box\n\n\n\nhttp://cloud.chambermaster.com/userfiles/UserFiles/chambers/1404/File/GoingOutofBusiness.jpg
X-ALT-DESC;FMTTYPE=text/html:<span style="font-size:12px\;">After 10 years\, it&rsquo\;s been a great run\; we&rsquo\;ve had lots of fun and it&rsquo\;s time to move on to new things. Please forward our Going Out of Business flyer to everyone who might be interested. Thanks for all your help in helping to get people to our sale. Hope you can come join us on March 14<sup>th</sup> or 15<sup>th</sup>.<br />\n&nbsp\;Take care\,<br />\n&nbsp\;<br />\nKyla Martin and Karen K Lueck<br />\nBeads in a Box<br />\n<br />\n<a href="http://cloud.chambermaster.com/userfiles/UserFiles/chambers/1404/File/GoingOutofBusiness.jpg">http://cloud.chambermaster.com/userfiles/UserFiles/chambers/1404/File/GoingOutofBusiness.jpg</a></span>
LOCATION:16 West 11th Kearney\, NE
UID:e.1404.4522
SEQUENCE:3
DTSTAMP:20260423T164247Z
URL:https://members.kearneycoc.org/events/details/beads-in-a-box-going-out-of-business-sale-03-14-2014-4522
END:VEVENT

END:VCALENDAR
