BEGIN:VCALENDAR
VERSION:2.0
PRODID:-//ChamberMaster//Event Calendar 2.0//EN
METHOD:PUBLISH
X-PUBLISHED-TTL:P3D
REFRESH-INTERVAL:P3D
CALSCALE:GREGORIAN
BEGIN:VEVENT
DTSTART:20150315T003000Z
DTEND:20150315T023000Z
X-MICROSOFT-CDO-ALLDAYEVENT:FALSE
SUMMARY:Ben Gulley-Kearney Concert Association
DESCRIPTION:Met Opera award winner and PBS favorite\, Gen Gulley\, sings a program of well-known operatic arias\, spirituals and Broadway.  Up-and-coming American operatic tenor Ben Gulley's career is growing daily with lead and feature roles in opera\, solo engagements\, concert work\, film work and nationwide touring as well as prestigious appearances abroad.  Ben is also a member of the SONY/BMG recording group "The American Tenors".  He is not only a fabulous singer but also a personable young man.
X-ALT-DESC;FMTTYPE=text/html:Met Opera award winner and PBS favorite\, Gen Gulley\, sings a program of well-known operatic arias\, spirituals and Broadway. &nbsp\;Up-and-coming American operatic tenor Ben Gulley&#39\;s career is growing daily with lead and feature roles in opera\, solo engagements\, concert work\, film work and nationwide touring as well as prestigious appearances abroad. &nbsp\;Ben is also a member of the SONY/BMG recording group &quot\;The American Tenors&quot\;. &nbsp\;He is not only a fabulous singer but also a personable young man.
LOCATION:Merryman Performing Arts Center
UID:e.1404.5343
SEQUENCE:3
DTSTAMP:20260422T212629Z
URL:https://members.kearneycoc.org/events/details/ben-gulley-kearney-concert-association-03-14-2015-5343
END:VEVENT

END:VCALENDAR
