BEGIN:VCALENDAR
VERSION:2.0
PRODID:-//ChamberMaster//Event Calendar 2.0//EN
METHOD:PUBLISH
X-PUBLISHED-TTL:P3D
REFRESH-INTERVAL:P3D
CALSCALE:GREGORIAN
BEGIN:VEVENT
DTSTART;VALUE=DATE:20121103
DTEND;VALUE=DATE:20121104
TRANSP:TRANSPARENT
X-MICROSOFT-CDO-ALLDAYEVENT:TRUE
SUMMARY:Bertrand Craft Show
DESCRIPTION:Bertrand Craft Show at School Gym and Community Building\n\nLunch Served at the Community Building--some people come just to eat lunch with friends.\n\nSponsored by NN and Reflections Club.\n\nBuilding and School are full to date and we are once again filling the hallways.
X-ALT-DESC;FMTTYPE=text/html:Bertrand Craft Show at School Gym and Community Building<br />\nLunch Served at the Community Building--some people come just to eat lunch with friends.<br />\nSponsored by NN and Reflections Club.<br />\nBuilding and School are full to date and we are once again filling the hallways.
LOCATION:Bertrand Craft Show
UID:e.1404.2194
SEQUENCE:3
DTSTAMP:20260424T204718Z
URL:https://members.kearneycoc.org/events/details/bertrand-craft-show-11-03-2012-2194
END:VEVENT

END:VCALENDAR
