BEGIN:VCALENDAR
VERSION:2.0
PRODID:-//ChamberMaster//Event Calendar 2.0//EN
METHOD:PUBLISH
X-PUBLISHED-TTL:P3D
REFRESH-INTERVAL:P3D
CALSCALE:GREGORIAN
BEGIN:VEVENT
DTSTART:20220617T000000Z
DTEND:20220617T020000Z
X-MICROSOFT-CDO-ALLDAYEVENT:FALSE
SUMMARY:Beyond the Lens – "Moonlight"
DESCRIPTION:Featuring the Academy Award Winning movie MOONLIGHT Through the BEYOND THE LENS series in partnership with The World Theatre\, MONA presents a selection of films with cultural\, aesthetic\, or historical significance. At the center of each screening is the Museum's mission to be a platform for the arts\, bring people together\, and encourage critical and meaningful engagement.
X-ALT-DESC;FMTTYPE=text/html:Featuring the Academy Award Winning movie MOONLIGHT Through the BEYOND THE LENS series in partnership with The World Theatre\, MONA presents a selection of films with cultural\, aesthetic\, or historical significance. At the center of each screening is the Museum&rsquo\;s mission to be a platform for the arts\, bring people together\, and encourage critical and meaningful engagement.
LOCATION:The World Theatre 2318 Central Avenue
UID:e.1404.19959
SEQUENCE:3
DTSTAMP:20260423T103542Z
URL:https://members.kearneycoc.org/events/details/beyond-the-lens-moonlight-19959
END:VEVENT

END:VCALENDAR
