BEGIN:VCALENDAR
VERSION:2.0
PRODID:-//ChamberMaster//Event Calendar 2.0//EN
METHOD:PUBLISH
X-PUBLISHED-TTL:P3D
REFRESH-INTERVAL:P3D
CALSCALE:GREGORIAN
BEGIN:VEVENT
DTSTART:20190629T003000Z
DTEND:20190629T023000Z
X-MICROSOFT-CDO-ALLDAYEVENT:FALSE
SUMMARY:Big Fish - The World Theatre
DESCRIPTION:Join us for a weekend full of FREE MOVIES to celebrate our 7th Birthday for The World Theatre! A different movie every day\, see them all! Throughout his life Edward Bloom has always been a man of big appetites\, enormous passions and tall tales. In his later years\, he remains a huge mystery to his son\, William. Now\, to get to know the real man\, Will begins piecing together a true picture of his father from flashbacks of his amazing adventures.
X-ALT-DESC;FMTTYPE=text/html:Join us for a weekend full of FREE MOVIES to celebrate our 7th Birthday for The World Theatre! A different movie every day\, see them all! Throughout his life Edward Bloom has always been a man of big appetites\, enormous passions and tall tales. In his later years\, he remains a huge mystery to his son\, William. Now\, to get to know the real man\, Will begins piecing together a true picture of his father from flashbacks of his amazing adventures.
LOCATION:The World Theatre 2318 Central Avenue Kearney NE 68847
UID:e.1404.16530
SEQUENCE:3
DTSTAMP:20260426T004107Z
URL:https://members.kearneycoc.org/events/details/big-fish-the-world-theatre-16530
END:VEVENT

END:VCALENDAR
