BEGIN:VCALENDAR
VERSION:2.0
PRODID:-//ChamberMaster//Event Calendar 2.0//EN
METHOD:PUBLISH
X-PUBLISHED-TTL:P3D
REFRESH-INTERVAL:P3D
CALSCALE:GREGORIAN
BEGIN:VEVENT
DTSTART:20161031T210000Z
DTEND:20161031T210000Z
X-MICROSOFT-CDO-ALLDAYEVENT:FALSE
SUMMARY:Big Idea Kearney Deadline
DESCRIPTION:DO YOU HAVE THE NEXT BIG IDEA? or Do you have a student or friend who might? \n\n \n\nThe Center for Rural Research and Development\, UNK's Entrepreneurship Center\, is excited to offer BIG IDEA KEARNEY\, a business idea competition. This competition is open to anyone over the age of 13. First place WINS $1000!\n\n \n\nRegistration is EASY. Just take a 2-minute video pitching your idea\, upload and register your idea at unk.edu/bigideakearney!\n\n \n\nHURRY   the deadline to submit ideas is October 31st at 4:00 pm.\n\n \n\nSHARE THIS EMAIL with anyone who might be interested and be sure to mark your calendar for the LIVE EVENT of the final competition on the evening of November 16th in downtown Kearney at Cunningham's.\n\n \n\nThis is the 6th Year that this event has been offered with the support of the College of Business and Technology  Be a part of the EXCITEMENT!\n\n \n\nFor more information please contact the CRRD Office at 308.865.8199 or emailcrrd@unk.edu!
X-ALT-DESC;FMTTYPE=text/html:<strong><span style="color:#00B050\;"><span style="font-size:16.0pt\;">DO YOU HAVE THE NEXT BIG IDEA?&nbsp\;</span></span></strong><em><span style="color:#00B050\;"><span style="font-size:14.0pt\;">or Do you have a student or friend who might?</span></span> </em><br />\n&nbsp\;<br />\nThe Center for Rural Research and Development\, UNK&rsquo\;s Entrepreneurship Center\, is excited to offer <strong><span style="color:#0070C0\;"><span style="font-size:12.0pt\;">BIG IDEA KEARNEY</span></span></strong>\, a business idea competition. This competition is open to anyone over the age of 13. First place <strong>WINS $1000!</strong><br />\n&nbsp\;<br />\nRegistration is EASY. Just take a 2-minute video pitching your idea\, upload and register your idea at unk.edu/bigideakearney!<br />\n&nbsp\;<br />\nHURRY &ndash\; the deadline to submit ideas is October 31<sup>st</sup> at 4:00 pm.<br />\n&nbsp\;<br />\nSHARE THIS EMAIL with anyone who might be interested and be sure to mark your calendar for the LIVE EVENT of the final competition on the evening of November 16<sup>th</sup> in downtown Kearney at Cunningham&rsquo\;s.<br />\n&nbsp\;<br />\nThis is the 6<sup>th</sup> Year that this event has been offered with the support of the College of Business and Technology&hellip\; Be a part of the EXCITEMENT!<br />\n&nbsp\;<br />\n<strong><em>For more information please contact the CRRD Office at 308.865.8199 or <a href="mailto:emailcrrd@unk.edu">emailcrrd@unk.edu</a>!</em></strong>
LOCATION:
UID:e.1404.9074
SEQUENCE:3
DTSTAMP:20260421T122458Z
URL:https://members.kearneycoc.org/events/details/big-idea-kearney-deadline-9074
END:VEVENT

END:VCALENDAR
