BEGIN:VCALENDAR
VERSION:2.0
PRODID:-//ChamberMaster//Event Calendar 2.0//EN
METHOD:PUBLISH
X-PUBLISHED-TTL:P3D
REFRESH-INTERVAL:P3D
CALSCALE:GREGORIAN
BEGIN:VEVENT
DTSTART:20130704T220000Z
DTEND:20130705T040000Z
X-MICROSOFT-CDO-ALLDAYEVENT:FALSE
SUMMARY:Big Igloo Freedom Fest
DESCRIPTION:Never been to a Big Igloo Freedom Fest? Now is your chance to enjoy FREE FOOD\, ROCK WALL CLIMBING\, GAMES\, INFLATABLES\, HORSE RIDES\, WATER PARK\, AMAZING FIREWORKS AND MORE!! So  bring a friend and join us for this FREE family fest starting at 5pm! Fireworks display at 10pm.
X-ALT-DESC;FMTTYPE=text/html:<span style="color: rgb(51\, 51\, 51)\; font-family: 'lucida grande'\, tahoma\, verdana\, arial\, sans-serif\; font-size: 13px\; line-height: 16px\;">Never been to a Big Igloo Freedom Fest? Now is your chance to enjoy FREE FOOD\, ROCK WALL CLIMBING\, GAMES\, INFLATABLES\, HORSE RIDES\, WATER PARK\, AMAZING FIREWORKS AND MORE!! So &nbsp\;bring a friend and join us for this FREE family fest starting at 5pm! Fireworks display at 10pm.</span>
LOCATION:Grace Fellowship\, 4305 19th Ave\, Kearney NE 68845
UID:e.1404.3235
SEQUENCE:3
DTSTAMP:20260424T060642Z
URL:https://members.kearneycoc.org/events/details/big-igloo-freedom-fest-07-04-2013-3235
END:VEVENT

END:VCALENDAR
