BEGIN:VCALENDAR
VERSION:2.0
PRODID:-//ChamberMaster//Event Calendar 2.0//EN
METHOD:PUBLISH
X-PUBLISHED-TTL:P3D
REFRESH-INTERVAL:P3D
CALSCALE:GREGORIAN
BEGIN:VEVENT
DTSTART:20140704T220000Z
DTEND:20140705T040000Z
X-MICROSOFT-CDO-ALLDAYEVENT:FALSE
SUMMARY:Big Igloo Freedom Fest
DESCRIPTION:Never been to a Big Igloo Freedom Fest? Now is your chance to enjoy FREE FOOD\, ROCK WALL CLIMBING\, GAMES\, INFLATABLES\, HORSE RIDES\, WATER PARK\, AMAZING FIREWORKS AND MORE!! So bring a friend and join us on July 4th for this FREE family fest! Fireworks display at 10pm.
X-ALT-DESC;FMTTYPE=text/html:Never been to a Big Igloo Freedom Fest? Now is your chance to enjoy FREE FOOD\, ROCK WALL CLIMBING\, GAMES\, INFLATABLES\, HORSE RIDES\, WATER PARK\, AMAZING FIREWORKS AND MORE!! So bring a friend and join us on July 4th for this FREE family fest! Fireworks display at 10pm.
LOCATION:"Big Igloo" 4305 19th Ave Kearney NE
UID:e.1404.4861
SEQUENCE:3
DTSTAMP:20260423T101042Z
URL:https://members.kearneycoc.org/events/details/big-igloo-freedom-fest-07-04-2014-4861
END:VEVENT

END:VCALENDAR
