BEGIN:VCALENDAR
VERSION:2.0
PRODID:-//ChamberMaster//Event Calendar 2.0//EN
METHOD:PUBLISH
X-PUBLISHED-TTL:P3D
REFRESH-INTERVAL:P3D
CALSCALE:GREGORIAN
BEGIN:VEVENT
DTSTART:20160702T220000Z
DTEND:20160703T040000Z
X-MICROSOFT-CDO-ALLDAYEVENT:FALSE
SUMMARY:Big Igloo Freedom Fest Carnival & Fireworks
DESCRIPTION:Big Igloo Freedom Fest Press Release The Best Celebration EVER! Family   Fun   Fireworks   FREE! This year\, we have decided to maximize the holiday weekend by having the Big Igloo Freedom Fest on Saturday\, July 2nd! Everyone is invited out to the Big Igloo Freedom Fest. You will find everything from inflatable games\, rock wall\, hamburgers & hotdogs\, funnel cakes\, cotton candy\, bingo\, carnival games\, a waterpark\, amazing professional fireworks display AND MORE for people of all ages! The best part of this is everything is FREE!! (yes\, even parking!) The Big Igloo Freedom Fest will take place from 5pm-9pm\; stick around for ice cream at 9:00pm & the fireworks at 10:00pm. Location: Grace 4305 19th Ave.\, Kearney Date: Saturday\, July 2nd\, 2016 Time: 5pm\, fireworks at 10pm This is the 6th year for Grace to host the Big Igloo Freedom Fest. With over 3000 in attendance last year\, we hope to once again offer an event for the community that will provide an opportunity to enjoy a fun filled evening free of cost for the whole family. Contact: Katie Adam 308-236-7257 Katie.adam@kearneygrace.com
X-ALT-DESC;FMTTYPE=text/html:Big Igloo Freedom Fest Press Release The Best Celebration EVER! Family &ndash\; Fun &ndash\; Fireworks &ndash\; FREE! This year\, we have decided to maximize the holiday weekend by having the Big Igloo Freedom Fest on Saturday\, July 2nd! Everyone is invited out to the Big Igloo Freedom Fest. You will find everything from inflatable games\, rock wall\, hamburgers &amp\; hotdogs\, funnel cakes\, cotton candy\, bingo\, carnival games\, a waterpark\, amazing professional fireworks display AND MORE for people of all ages! The best part of this is everything is FREE!! (yes\, even parking!) The Big Igloo Freedom Fest will take place from 5pm-9pm\; stick around for ice cream at 9:00pm &amp\; the fireworks at 10:00pm. Location: Grace 4305 19th Ave.\, Kearney Date: Saturday\, July 2nd\, 2016 Time: 5pm\, fireworks at 10pm This is the 6th year for Grace to host the Big Igloo Freedom Fest. With over 3000 in attendance last year\, we hope to once again offer an event for the community that will provide an opportunity to enjoy a fun filled evening free of cost for the whole family. Contact: Katie Adam 308-236-7257 Katie.adam@kearneygrace.com
LOCATION:Grace Fellowship (Big Igloo) 4305 19th Ave Kearney\, NE 68845
UID:e.1404.8763
SEQUENCE:3
DTSTAMP:20260421T171828Z
URL:https://members.kearneycoc.org/events/details/big-igloo-freedom-fest-carnival-fireworks-07-02-2016-8763
END:VEVENT

END:VCALENDAR
