BEGIN:VCALENDAR
VERSION:2.0
PRODID:-//ChamberMaster//Event Calendar 2.0//EN
METHOD:PUBLISH
X-PUBLISHED-TTL:P3D
REFRESH-INTERVAL:P3D
CALSCALE:GREGORIAN
BEGIN:VEVENT
DTSTART:20140711T230000Z
DTEND:20140712T020000Z
X-MICROSOFT-CDO-ALLDAYEVENT:FALSE
SUMMARY:Bike Night
DESCRIPTION:Join Kearney Powersports for our 3rd Annual Season of Bike Nights where you could win a new motorcycle! Each Bike Night will consist of food & drinks from Cunningham's Journal\, live music\, games\, prizes\, and chances to win keys that could start the bike! HOW TO WIN A KEY: Come to our Bike Nights: May 16\, June 13\, and July 11 from 6 to 9 pm. Be listening to Hits 106 & Y102 each weekday. Come to key give-away opportunities at Cunningham?s Journal. Sign-up in our store & check our Facebook page for all key give-away chances.
X-ALT-DESC;FMTTYPE=text/html:Join Kearney Powersports for our 3rd Annual Season of Bike Nights where you could win a new motorcycle! Each Bike Night will consist of food &amp\; drinks from Cunningham&#39\;s Journal\, live music\, games\, prizes\, and chances to win keys that could start the bike! HOW TO WIN A KEY: Come to our Bike Nights: May 16\, June 13\, and July 11 from 6 to 9 pm. Be listening to Hits 106 &amp\; Y102 each weekday. Come to key give-away opportunities at Cunningham?s Journal. Sign-up in our store &amp\; check our Facebook page for all key give-away chances.
LOCATION:Kearney Powersports 511 2nd Ave Kearney\, NE 68847
UID:e.1404.4687
SEQUENCE:3
DTSTAMP:20260423T113814Z
URL:https://members.kearneycoc.org/events/details/bike-night-07-11-2014-4687
END:VEVENT

END:VCALENDAR
