BEGIN:VCALENDAR
VERSION:2.0
PRODID:-//ChamberMaster//Event Calendar 2.0//EN
METHOD:PUBLISH
X-PUBLISHED-TTL:P3D
REFRESH-INTERVAL:P3D
CALSCALE:GREGORIAN
BEGIN:VEVENT
DTSTART:20140424T233000Z
DTEND:20140425T003000Z
X-MICROSOFT-CDO-ALLDAYEVENT:FALSE
SUMMARY:Bike Night Unveiling
DESCRIPTION:Join Kearney Powersports as they kick off their Bike Nights with the unveiling of this year's giveaway bike at Cunningham's Journal. One lucky person will win a key that could start the giveaway bike!
X-ALT-DESC;FMTTYPE=text/html:Join Kearney Powersports as they kick off their Bike Nights with the unveiling of this year&#39\;s giveaway bike at Cunningham&#39\;s Journal. One lucky person will win a key that could start the giveaway bike!
LOCATION:Cunningham's Journal 15 W 23rd St Kearney\, NE 68847
UID:e.1404.4684
SEQUENCE:3
DTSTAMP:20260423T145826Z
URL:https://members.kearneycoc.org/events/details/bike-night-unveiling-04-24-2014-4684
END:VEVENT

END:VCALENDAR
