BEGIN:VCALENDAR
VERSION:2.0
PRODID:-//ChamberMaster//Event Calendar 2.0//EN
METHOD:PUBLISH
X-PUBLISHED-TTL:P3D
REFRESH-INTERVAL:P3D
CALSCALE:GREGORIAN
BEGIN:VEVENT
DTSTART:20190511T003000Z
DTEND:20190511T021500Z
X-MICROSOFT-CDO-ALLDAYEVENT:FALSE
SUMMARY:Bill & Ted's Excellent Adventure - The World Theatre
DESCRIPTION:A pair of failing high school students Bill S. Preston\, Esquire and Ted "Theodore" Logan are visited by a time traveler from the future\, who takes them on an adventure through time to gather up actual historical figures to help them with a history report.
X-ALT-DESC;FMTTYPE=text/html:A pair of failing high school students&mdash\;Bill S. Preston\, Esquire and Ted &quot\;Theodore&quot\; Logan&mdash\;are visited by a time traveler from the future\, who takes them on an adventure through time to gather up actual historical figures to help them with a history report.
LOCATION:The World Theatre 2318 Central Ave Kearney\, NE 68847
UID:e.1404.15873
SEQUENCE:3
DTSTAMP:20260426T005232Z
URL:https://members.kearneycoc.org/events/details/bill-ted-s-excellent-adventure-the-world-theatre-15873
END:VEVENT

END:VCALENDAR
