BEGIN:VCALENDAR
VERSION:2.0
PRODID:-//ChamberMaster//Event Calendar 2.0//EN
METHOD:PUBLISH
X-PUBLISHED-TTL:P3D
REFRESH-INTERVAL:P3D
CALSCALE:GREGORIAN
BEGIN:VEVENT
DTSTART:20210716T010000Z
DTEND:20210716T023000Z
X-MICROSOFT-CDO-ALLDAYEVENT:FALSE
SUMMARY:Billy McGuigan & The Downliners
DESCRIPTION:The best rock of the 50's\, 60's\, and 70's\, performing selections from Buddy Holly\, the Beatles\, Elvis Presley to the Eagles\, Billy returns to the Merryman with his high energy and engaging rock and roll performance. This event is promoted with the Central Nebraska Auto Club. Tickets are available at pickmytickets.com or by calling (308) 698-8297.
X-ALT-DESC;FMTTYPE=text/html:The best rock of the 50&rsquo\;s\, 60&rsquo\;s\, and 70&rsquo\;s\, performing selections from Buddy Holly\, the Beatles\, Elvis Presley to the Eagles\, Billy returns to the Merryman with his high energy and engaging rock and roll performance. This event is promoted with the Central Nebraska Auto Club. Tickets are available at pickmytickets.com or by calling (308) 698-8297.
LOCATION:Merryman Performing Arts Center 225 W 22nd Street\, Kearney\, NE
UID:e.1404.19333
SEQUENCE:3
DTSTAMP:20260424T060559Z
URL:https://members.kearneycoc.org/events/details/billy-mcguigan-the-downliners-19333
END:VEVENT

END:VCALENDAR
