BEGIN:VCALENDAR
VERSION:2.0
PRODID:-//ChamberMaster//Event Calendar 2.0//EN
METHOD:PUBLISH
X-PUBLISHED-TTL:P3D
REFRESH-INTERVAL:P3D
CALSCALE:GREGORIAN
BEGIN:VEVENT
DTSTART;VALUE=DATE:20141128
DTEND;VALUE=DATE:20141129
TRANSP:TRANSPARENT
X-MICROSOFT-CDO-ALLDAYEVENT:TRUE
SUMMARY:Black Friday
DESCRIPTION:Beat the hustle & bustle of gift shopping at the big box stores by shopping downtown On The Bricks! Amazing low prices with excellent customer service is awaiting you on Black Friday in Downtown Kearney! Discounts and giveaways throughout the ?Bricks.? Many stores open early with great deals and giveaways! Enter the drawing for downtown gift cards and an iPad! Check out individual business deals on Facebook.
X-ALT-DESC;FMTTYPE=text/html:Beat the hustle &amp\; bustle of gift shopping at the big box stores by shopping downtown On The Bricks! Amazing low prices with excellent customer service is awaiting you on Black Friday in Downtown Kearney! Discounts and giveaways throughout the ?Bricks.? Many stores open early with great deals and giveaways! Enter the drawing for downtown gift cards and an iPad! Check out individual business deals on Facebook.
LOCATION:Downtown Kearney
UID:e.1404.5385
SEQUENCE:3
DTSTAMP:20260423T033912Z
URL:https://members.kearneycoc.org/events/details/black-friday-11-28-2014-5385
END:VEVENT

END:VCALENDAR
