BEGIN:VCALENDAR
VERSION:2.0
PRODID:-//ChamberMaster//Event Calendar 2.0//EN
METHOD:PUBLISH
X-PUBLISHED-TTL:P3D
REFRESH-INTERVAL:P3D
CALSCALE:GREGORIAN
BEGIN:VEVENT
DTSTART:20131129T140000Z
DTEND:20131129T230000Z
X-MICROSOFT-CDO-ALLDAYEVENT:FALSE
SUMMARY:Black Friday Downtown
DESCRIPTION:Gift Certificate drawing- Enter to win over 1\,500 in gift cards from Nov 29-Dec 1! \n\nKids Movie at World Theatre 10AM \n\nSanta's Cottage 11AM
X-ALT-DESC;FMTTYPE=text/html:Gift Certificate drawing- Enter to win over 1\,500 in gift cards from Nov 29-Dec 1!&nbsp\;<br />\nKids Movie at World Theatre&nbsp\;10AM&nbsp\;<br />\nSanta&#39\;s Cottage&nbsp\;11AM<br />\n<br />\n
LOCATION:
UID:e.1404.3356
SEQUENCE:3
DTSTAMP:20260423T231037Z
URL:https://members.kearneycoc.org/events/details/black-friday-downtown-11-29-2013-3356
END:VEVENT

END:VCALENDAR
