BEGIN:VCALENDAR
VERSION:2.0
PRODID:-//ChamberMaster//Event Calendar 2.0//EN
METHOD:PUBLISH
X-PUBLISHED-TTL:P3D
REFRESH-INTERVAL:P3D
CALSCALE:GREGORIAN
BEGIN:VEVENT
DTSTART:20160213T150000Z
DTEND:20160213T203000Z
X-MICROSOFT-CDO-ALLDAYEVENT:FALSE
SUMMARY:Blood Drive
DESCRIPTION:Stop out and donate blood! All presenting donors will receive a $10 Kearney Powersports gift card. Hot dogs\, chips\, cookies\, pop and juice will also be provided.
X-ALT-DESC;FMTTYPE=text/html:Stop out and donate blood! All presenting donors will receive a $10 Kearney Powersports gift card. Hot dogs\, chips\, cookies\, pop and juice will also be provided.
LOCATION:Kearney Powersports
UID:e.1404.7257
SEQUENCE:3
DTSTAMP:20260422T012015Z
URL:https://members.kearneycoc.org/events/details/blood-drive-02-13-2016-7257
END:VEVENT

END:VCALENDAR
