BEGIN:VCALENDAR
VERSION:2.0
PRODID:-//ChamberMaster//Event Calendar 2.0//EN
METHOD:PUBLISH
X-PUBLISHED-TTL:P3D
REFRESH-INTERVAL:P3D
CALSCALE:GREGORIAN
BEGIN:VEVENT
DTSTART;VALUE=DATE:20140215
DTEND;VALUE=DATE:20140216
TRANSP:TRANSPARENT
X-MICROSOFT-CDO-ALLDAYEVENT:TRUE
SUMMARY:Blood Drive
DESCRIPTION:All Presenting donors recieve a $10 Kearney Powersports gift card!  Hot dogs served from 11am to 1 pm
X-ALT-DESC;FMTTYPE=text/html:All Presenting donors recieve a $10 Kearney Powersports gift card!&nbsp\; Hot dogs served from 11am to 1 pm<br type="_moz" />\n
LOCATION:Kearney Powersports
UID:e.1404.4505
SEQUENCE:3
DTSTAMP:20260423T180842Z
URL:https://members.kearneycoc.org/events/details/blood-drive-02-15-2014-4505
END:VEVENT

END:VCALENDAR
