BEGIN:VCALENDAR
VERSION:2.0
PRODID:-//ChamberMaster//Event Calendar 2.0//EN
METHOD:PUBLISH
X-PUBLISHED-TTL:P3D
REFRESH-INTERVAL:P3D
CALSCALE:GREGORIAN
BEGIN:VEVENT
DTSTART:20160503T170000Z
DTEND:20160503T230000Z
X-MICROSOFT-CDO-ALLDAYEVENT:FALSE
SUMMARY:Blood Drive-McMeen Physical Therapy
DESCRIPTION:McMeen Physical Therapy is hosting a blood drive in coordination with the American Red Cross.
X-ALT-DESC;FMTTYPE=text/html:McMeen Physical Therapy is hosting a blood drive in coordination with the American Red Cross.&nbsp\;
LOCATION:McMeen Physical Therapy 3811 Central Ave.\, Ste F
UID:e.1404.8720
SEQUENCE:3
DTSTAMP:20260421T202456Z
URL:https://members.kearneycoc.org/events/details/blood-drive-mcmeen-physical-therapy-05-03-2016-8720
END:VEVENT

END:VCALENDAR
