BEGIN:VCALENDAR
VERSION:2.0
PRODID:-//ChamberMaster//Event Calendar 2.0//EN
METHOD:PUBLISH
X-PUBLISHED-TTL:P3D
REFRESH-INTERVAL:P3D
CALSCALE:GREGORIAN
BEGIN:VEVENT
DTSTART:20210907T170000Z
DTEND:20210907T230000Z
X-MICROSOFT-CDO-ALLDAYEVENT:FALSE
SUMMARY:Blood Drive - Sponsored By Envoys
DESCRIPTION:First Presbyterian Church - 4511 6th Ave
X-ALT-DESC;FMTTYPE=text/html:First Presbyterian Church - 4511 6th Ave
LOCATION:
UID:e.1404.19396
SEQUENCE:3
DTSTAMP:20260424T004021Z
URL:https://members.kearneycoc.org/events/details/blood-drive-sponsored-by-envoys-19396
END:VEVENT

END:VCALENDAR
