BEGIN:VCALENDAR
VERSION:2.0
PRODID:-//ChamberMaster//Event Calendar 2.0//EN
METHOD:PUBLISH
X-PUBLISHED-TTL:P3D
REFRESH-INTERVAL:P3D
CALSCALE:GREGORIAN
BEGIN:VEVENT
DTSTART:20190403T230000Z
DTEND:20190404T020000Z
X-MICROSOFT-CDO-ALLDAYEVENT:FALSE
SUMMARY:Blue Plate Special Band at Cunningham's On The Bricks
DESCRIPTION:Blue Plate Special playing a wide variety of great live music this Wednesday\, April 3rd at Cunningham's Downtown. Hope to see you there.
X-ALT-DESC;FMTTYPE=text/html:Blue Plate Special playing a wide variety of great live music this Wednesday\, April 3rd at Cunningham&#39\;s Downtown. Hope to see you there.
LOCATION:
UID:e.1404.15454
SEQUENCE:3
DTSTAMP:20260426T020730Z
URL:https://members.kearneycoc.org/events/details/blue-plate-special-band-at-cunningham-s-on-the-bricks-15454
END:VEVENT

END:VCALENDAR
