BEGIN:VCALENDAR
VERSION:2.0
PRODID:-//ChamberMaster//Event Calendar 2.0//EN
METHOD:PUBLISH
X-PUBLISHED-TTL:P3D
REFRESH-INTERVAL:P3D
CALSCALE:GREGORIAN
BEGIN:VEVENT
DTSTART:20140524T220000Z
DTEND:20140525T030000Z
X-MICROSOFT-CDO-ALLDAYEVENT:FALSE
SUMMARY:Board of the Weekend!
DESCRIPTION:Looking for something fun to do on a Saturday Night? Come play one of our dozens of free demo board games and bring the whole family! Games for adults and kids of all ages! As a bonus\, get 10% off any in-game or special order board game purchase just for playing one of our demos!
X-ALT-DESC;FMTTYPE=text/html:Looking for something fun to do on a Saturday Night? Come play one of our dozens of free demo board games and bring the whole family! Games for adults and kids of all ages! As a bonus\, get 10% off any in-game or special order board game purchase just for playing one of our demos!
LOCATION:The Troll's Den 3815 2nd Avenue Kearney\, NE
UID:e.1404.4709
SEQUENCE:3
DTSTAMP:20260423T132316Z
URL:https://members.kearneycoc.org/events/details/board-of-the-weekend-05-24-2014-4709
END:VEVENT

END:VCALENDAR
