BEGIN:VCALENDAR
VERSION:2.0
PRODID:-//ChamberMaster//Event Calendar 2.0//EN
METHOD:PUBLISH
X-PUBLISHED-TTL:P3D
REFRESH-INTERVAL:P3D
CALSCALE:GREGORIAN
BEGIN:VEVENT
DTSTART:20160226T010000Z
DTEND:20160226T020000Z
X-MICROSOFT-CDO-ALLDAYEVENT:FALSE
SUMMARY:Bone Health/Fracture Prevention Seminar
DESCRIPTION:Learn about the importance of bone health.
X-ALT-DESC;FMTTYPE=text/html:Learn about the importance of bone health.
LOCATION:OsteoStrong\, 207 West 29th Ste B
UID:e.1404.7530
SEQUENCE:3
DTSTAMP:20260422T012338Z
URL:https://members.kearneycoc.org/events/details/bone-health-fracture-prevention-seminar-02-25-2016-7530
END:VEVENT

END:VCALENDAR
