BEGIN:VCALENDAR
VERSION:2.0
PRODID:-//ChamberMaster//Event Calendar 2.0//EN
METHOD:PUBLISH
X-PUBLISHED-TTL:P3D
REFRESH-INTERVAL:P3D
CALSCALE:GREGORIAN
BEGIN:VEVENT
DTSTART:20211028T223000Z
DTEND:20211029T004500Z
X-MICROSOFT-CDO-ALLDAYEVENT:FALSE
SUMMARY:BOO!-seum
DESCRIPTION:It's time for BOO!-seum with a fun little twist! \n\nThis year we are offering timed-ticketing options to help keep the attendance numbers spread out over the course of the evening. Your family will be able to enjoy festivities at your leisure during your allotted timeframe of 45 minutes. \n\n \n\nFamilies are welcome to come dressed up in their favorite Halloween costumes for our costume contest! Photos will be taken of families in costume and they will be entered to win a $25 gift card to Target!
X-ALT-DESC;FMTTYPE=text/html:<div>It&#39\;s time for BOO!-seum with a fun little twist!&nbsp\;</div>\n\n<div>This year we are offering timed-ticketing options to help keep the attendance numbers spread out over the course of the evening. Your family will be able to enjoy festivities at your leisure during your allotted timeframe of 45 minutes.&nbsp\;</div>\n\n<div>&nbsp\;</div>\n\n<div>Families are welcome to come dressed up in their favorite Halloween costumes for our costume contest! Photos will be taken of families in costume and they will be entered to win a $25 gift card to Target!</div>\n
LOCATION:Kearney Area Children's Museum 5827 4th Avenue\, Kearney\, NE 68845
UID:e.1404.19431
SEQUENCE:3
DTSTAMP:20260423T232608Z
URL:https://members.kearneycoc.org/events/details/boo-seum-10-28-2021-19431
END:VEVENT

END:VCALENDAR
