BEGIN:VCALENDAR
VERSION:2.0
PRODID:-//ChamberMaster//Event Calendar 2.0//EN
METHOD:PUBLISH
X-PUBLISHED-TTL:P3D
REFRESH-INTERVAL:P3D
CALSCALE:GREGORIAN
BEGIN:VEVENT
DTSTART:20191024T223000Z
DTEND:20191025T010000Z
X-MICROSOFT-CDO-ALLDAYEVENT:FALSE
SUMMARY:BOO!-seum @ KACM
DESCRIPTION:Join us for a kooky-spooky time at BOO!-seum!\n\n\n\nBring your little pumpkins to this family-friendly night full of fang-tastic fun! Kids can play games and win cool prizes while showing off their favorite costumes. We will also have a fun haunted house for little ones and a bigger one for tweens!\n\n\n\nPre-purchase tickets and avoid long lines!\n\n\n\nFood will also be available for purchase at the event for $3 per person.
X-ALT-DESC;FMTTYPE=text/html:Join us for a kooky-spooky time at BOO!-seum!<br />\n<br />\nBring your little pumpkins to this family-friendly night full of fang-tastic fun! Kids can play games and win cool prizes while showing off their favorite costumes. We will also have a fun haunted house for little ones and a bigger one for tweens!<br />\n<br />\nPre-purchase tickets and avoid long lines!<br />\n<br />\nFood will also be available for purchase at the event for $3 per person.
LOCATION:Kearney Area Children's Museum Alia Arram Memorial Building 5827 4th Avenue\, Kearney\, NE 68845
UID:e.1404.18155
SEQUENCE:3
DTSTAMP:20260425T164003Z
URL:https://members.kearneycoc.org/events/details/boo-seum-kacm-10-24-2019-18155
END:VEVENT

END:VCALENDAR
