BEGIN:VCALENDAR
VERSION:2.0
PRODID:-//ChamberMaster//Event Calendar 2.0//EN
METHOD:PUBLISH
X-PUBLISHED-TTL:P3D
REFRESH-INTERVAL:P3D
CALSCALE:GREGORIAN
BEGIN:VEVENT
DTSTART;VALUE=DATE:20210802
DTEND;VALUE=DATE:20210808
TRANSP:TRANSPARENT
X-MICROSOFT-CDO-ALLDAYEVENT:TRUE
SUMMARY:Boutique Week on the Bricks
DESCRIPTION:Downtown Kearney's first-ever Boutique Week is Monday\, August 2nd through Saturday\, August 7th. This week will feature the boutiques in the historic district and what all they have to offer. We invite you to follow along and play Boutique Bingo for a chance to win a $500 shopping spree. Bingo cards can be picked up at any participating location. Completed cards can be left at any participating location as well or e-mailing to bricks@downtownkearney.com by midnight on the 7th. The random drawing winner will be announced on Monday\, the 9th. Participating businesses include Bow & Arrow Boutique\, the Denim Bar Boutique\, Divas Floral Shop & Boutique\, Edith Joi Boutique\, Fanci That Salon & Boutique\, Hello Beautiful Bridal & Formal Wear\, Holistic Healing Spa & Boho Chic Boutique\, Lucky Dog's Place Pet Boutique\, Olive & Sage Boutique\, Rustic Seagull Boutique & Consignment\, Suite Child & Wee Cycle Children's Consignment & Boutique as well as the Home Within\, the Rustic Patch and the Solid Rock.
X-ALT-DESC;FMTTYPE=text/html:Downtown Kearney&#39\;s first-ever Boutique Week is Monday\, August 2nd through Saturday\, August 7th. This week will feature the boutiques in the historic district and what all they have to offer. We invite you to follow along and play Boutique Bingo for a chance to win a $500 shopping spree. Bingo cards can be picked up at any participating location. Completed cards can be left at any participating location as well or e-mailing to bricks@downtownkearney.com by midnight on the 7th. The random drawing winner will be announced on Monday\, the 9th. Participating businesses include Bow &amp\; Arrow Boutique\, the Denim Bar Boutique\, Divas Floral Shop &amp\; Boutique\, Edith Joi Boutique\, Fanci That Salon &amp\; Boutique\, Hello Beautiful Bridal &amp\; Formal Wear\, Holistic Healing Spa &amp\; Boho Chic Boutique\, Lucky Dog&#39\;s Place Pet Boutique\, Olive &amp\; Sage Boutique\, Rustic Seagull Boutique &amp\; Consignment\, Suite Child &amp\; Wee Cycle Children&#39\;s Consignment &amp\; Boutique as well as the Home Within\, the Rustic Patch and the Solid Rock.
LOCATION:Downtown Kearney
UID:e.1404.19360
SEQUENCE:3
DTSTAMP:20260424T020447Z
URL:https://members.kearneycoc.org/events/details/boutique-week-on-the-bricks-19360
END:VEVENT

END:VCALENDAR
