BEGIN:VCALENDAR
VERSION:2.0
PRODID:-//ChamberMaster//Event Calendar 2.0//EN
METHOD:PUBLISH
X-PUBLISHED-TTL:P3D
REFRESH-INTERVAL:P3D
CALSCALE:GREGORIAN
BEGIN:VEVENT
DTSTART:20210425T120000Z
DTEND:20210425T190000Z
X-MICROSOFT-CDO-ALLDAYEVENT:FALSE
SUMMARY:Boy Scout Troop 158 Pancake Feed
DESCRIPTION:Come and support Boy Scout Troop 158 with their Pancake Feed fundraiser!
X-ALT-DESC;FMTTYPE=text/html:Come and support Boy Scout Troop 158 with their Pancake Feed fundraiser!&nbsp\;
LOCATION:Eagles Club 17 West 24th St.
UID:e.1404.19299
SEQUENCE:3
DTSTAMP:20260424T122637Z
URL:https://members.kearneycoc.org/events/details/boy-scout-troop-158-pancake-feed-19299
END:VEVENT

END:VCALENDAR
