BEGIN:VCALENDAR
VERSION:2.0
PRODID:-//ChamberMaster//Event Calendar 2.0//EN
METHOD:PUBLISH
X-PUBLISHED-TTL:P3D
REFRESH-INTERVAL:P3D
CALSCALE:GREGORIAN
BEGIN:VEVENT
DTSTART:20211204T140000Z
DTEND:20211204T170000Z
X-MICROSOFT-CDO-ALLDAYEVENT:FALSE
SUMMARY:Breakfast with Santa
DESCRIPTION:It's time to kick off the holiday season with some cheer at Breakfast with Santa!\n\n \n\nFamilies can enjoy a morning of holiday fun with kids activity stations\, a Christmas train ride\, story time with Mrs. Claus and more! Along the way families will meet some of their favorite friends such as Frosty\, Rudolph\, Anna\, Elsa\, Olaf\, and of course Santa himself!  \n\n \n\nLove seeing Santa? Make sure to purchase a photo package from Katie Autry Photography and capture the moment!\n\nPhoto packages can be ordered at the event credit card or check ONLY!\n\n \n\nGrumbling tummies? Don't worry! Noon & Dobytown Kiwanis will be busy whipping up some hot pancakes and sausage so families can have delicious meal. Don't worry\, Calico Coffee is providing fresh brewed coffee and we will have juice and water available.\n\n \n\nWant to help spread Christmas cheer? Bring a new toy to donate to Toys for Tots!
X-ALT-DESC;FMTTYPE=text/html:<div>It&rsquo\;s time to kick off the holiday season with some cheer at Breakfast with Santa!</div>\n\n<div>&nbsp\;</div>\n\n<div>Families can enjoy a morning of holiday fun with kids activity stations\, a Christmas train ride\, story time with Mrs. Claus and more! Along the way families will meet some of their favorite friends such as Frosty\, Rudolph\, Anna\, Elsa\, Olaf\, and of course&hellip\;Santa himself!&nbsp\;&nbsp\;</div>\n\n<div>&nbsp\;</div>\n\n<div>Love seeing Santa? Make sure to purchase a photo package from Katie Autry Photography and capture the moment!</div>\n\n<div><em>Photo packages can be ordered at the event credit card or check ONLY!</em></div>\n\n<div>&nbsp\;</div>\n\n<div>Grumbling tummies? Don&rsquo\;t worry! Noon &amp\; Dobytown Kiwanis will be busy whipping up some hot pancakes and sausage so families can have delicious meal. Don&rsquo\;t worry\, Calico Coffee is providing fresh brewed coffee and we will have juice and water available.</div>\n\n<div>&nbsp\;</div>\n\n<div>Want to help spread Christmas cheer? Bring a new toy to donate to Toys for Tots!</div>\n
LOCATION:Buffalo Country Fairgrounds 3807 Avenue N Kearney\, 68847
UID:e.1404.19462
SEQUENCE:3
DTSTAMP:20260423T195317Z
URL:https://members.kearneycoc.org/events/details/breakfast-with-santa-12-04-2021-19462
END:VEVENT

END:VCALENDAR
