BEGIN:VCALENDAR
VERSION:2.0
PRODID:-//ChamberMaster//Event Calendar 2.0//EN
METHOD:PUBLISH
X-PUBLISHED-TTL:P3D
REFRESH-INTERVAL:P3D
CALSCALE:GREGORIAN
BEGIN:VEVENT
DTSTART;VALUE=DATE:20191028
DTEND;VALUE=DATE:20191102
TRANSP:TRANSPARENT
X-MICROSOFT-CDO-ALLDAYEVENT:TRUE
SUMMARY:Bruning Bank Open House
DESCRIPTION:Join us at our new location at 1110 17th Avenue all week for the following: October 28 8:30 AM - 10:30 AM Donuts & Juice October 29 8:30 AM - 4:30 PM Eileen's Cookies October 30 7:30 AM - 10:00 AM The Cup N Cork October 31 4:00 PM - 6:00 PM Trick-or-Treat November 1 4:00 PM - 6:00 PM Tailgate with Pulled Pork Register to win! Enter your name to win one of the following prize packages! Yeti Cooler\, Meat Package from Oxford Locker\, Loper Prize Package\, Gift Card for Cunningham's on the Lake\, or a Kearney Children's Museum Gift Certificate All welcome to enter!
X-ALT-DESC;FMTTYPE=text/html:Join us at our new location at 1110 17th Avenue all week for the following: October 28 8:30 AM - 10:30 AM Donuts &amp\; Juice October 29 8:30 AM - 4:30 PM Eileen&#39\;s Cookies October 30 7:30 AM - 10:00 AM The Cup N Cork October 31 4:00 PM - 6:00 PM Trick-or-Treat November 1 4:00 PM - 6:00 PM Tailgate with Pulled Pork Register to win! Enter your name to win one of the following prize packages! Yeti Cooler\, Meat Package from Oxford Locker\, Loper Prize Package\, Gift Card for Cunningham&#39\;s on the Lake\, or a Kearney Children&#39\;s Museum Gift Certificate All welcome to enter!
LOCATION:Bruning Bank 1110 17th Avenue
UID:e.1404.18195
SEQUENCE:3
DTSTAMP:20260425T150149Z
URL:https://members.kearneycoc.org/events/details/bruning-bank-open-house-18195
END:VEVENT

END:VCALENDAR
