BEGIN:VCALENDAR
VERSION:2.0
PRODID:-//ChamberMaster//Event Calendar 2.0//EN
METHOD:PUBLISH
X-PUBLISHED-TTL:P3D
REFRESH-INTERVAL:P3D
CALSCALE:GREGORIAN
BEGIN:VEVENT
DTSTART:20200728T130000Z
DTEND:20200731T140000Z
X-MICROSOFT-CDO-ALLDAYEVENT:FALSE
SUMMARY:Buffalo County Online Premium Auction
DESCRIPTION:New opportunity to support Buffalo County 4Hers! The online action will be hosted by Adam Marshall Land & Acution\, www.marshallbid.com.\n\n\n\nThe online site will provide simple details on logging on and placing a bid. The youth will be sorted into Sheep/Goat\, Market Beef and Swine Exhibitors. If a business or individual is looking to harvest an animal\, you will need to contact the 4-H Family directly. The opportunities to fill your freezer with lamb\, goat\, pork or beef will be listed in the individual 4-Hers footnote on the sale listing. \n\n\n\nFor assistance with your investment\, please give a committee member a call! 100% of your dollars go directly to the kids! Your investment can support the Buffalo Co. 4-Hers exhibiting their swine\, sheep\, goats and beef at the 2020 Buffalo Co. 4-H Auction. You're investing in the next generation of leaders in Buffalo Co!\n\n\n\nCovid-19 has caused lots of changes! Due to  Covid-19 the Buffalo County 4-H Livestock Auction will be an Online Premium Auction that will directly reward the Buffalo Co. 4-H Youth. The Buffalo Co. 4-H Sale is working to design a premium auction that will reward all youth and allow for a simple way for businesses to invest in the Buffalo Co. Youth. \n\n\n\nCall a Sale Committee Member today for details on how you can be a part of the 4-H Online Premium Auction. \n\n\n\nCLICK HERE TO DOWNLOAD THE FLYER!
X-ALT-DESC;FMTTYPE=text/html:New opportunity to support Buffalo County 4Hers! The online action will be hosted by Adam Marshall Land &amp\; Acution\, <a href="https://www.marshallbid.com/">www.marshallbid.com</a>.<br />\n<br />\nThe online site will provide simple details on logging on and placing a bid. The youth will be sorted into Sheep/Goat\, Market Beef and Swine Exhibitors. If a business or individual is looking to harvest an animal\, you will need to contact the 4-H Family directly. The opportunities to fill your freezer with lamb\, goat\, pork or beef will be listed in the individual 4-Hers footnote on the sale listing.&nbsp\;<br />\n<br />\nFor assistance with your investment\, please give a committee member a call! 100% of your dollars go directly to the kids! Your investment can support the Buffalo Co. 4-Hers exhibiting their swine\, sheep\, goats and beef at the 2020 Buffalo Co. 4-H Auction. You&#39\;re investing in the next generation of leaders in Buffalo Co!<br />\n<br />\nCovid-19 has caused lots of changes! Due to&nbsp\; Covid-19 the Buffalo County 4-H Livestock Auction will be an Online Premium Auction that will directly reward the Buffalo Co. 4-H Youth. The Buffalo Co. 4-H Sale is working to design a premium auction that will reward all youth and allow for a simple way for businesses to invest in the Buffalo Co. Youth.&nbsp\;<br />\n<br />\nCall a Sale Committee Member today for details on how you can be a part of the 4-H Online Premium Auction.&nbsp\;<br />\n<br />\n<a href="https://chambermaster.blob.core.windows.net/userfiles/UserFiles/chambers/1404/File/BuffaloCtyOnlineAuction_0620_v7.pdf">CLICK HERE TO DOWNLOAD THE FLYER!</a>
LOCATION:Online: marshallbid.com
UID:e.1404.18646
SEQUENCE:3
DTSTAMP:20260425T020547Z
URL:https://members.kearneycoc.org/events/details/buffalo-county-online-premium-auction-18646
END:VEVENT

END:VCALENDAR
