BEGIN:VCALENDAR
VERSION:2.0
PRODID:-//ChamberMaster//Event Calendar 2.0//EN
METHOD:PUBLISH
X-PUBLISHED-TTL:P3D
REFRESH-INTERVAL:P3D
CALSCALE:GREGORIAN
BEGIN:VEVENT
DTSTART:20190615T150000Z
DTEND:20190615T160000Z
X-MICROSOFT-CDO-ALLDAYEVENT:FALSE
SUMMARY:Build a Gift for Dad- Builders kids workshop
DESCRIPTION:Come to Builders and build something special that Dad will cherish for years. We have three options to choose from a handprint coaster or trivet (FREE)\, following in my daddy's shoes ($5)\, or handprint work gloves ($10). Preorder your craft here or choose which craft you would like at the event. https://builderscorp.com/kids-workshop-fathers-day/ https://www.facebook.com/events/1192209514236031/
X-ALT-DESC;FMTTYPE=text/html:Come to Builders and build something special that Dad will cherish for years. We have three options to choose from a handprint coaster or trivet (FREE)\, following in my daddy&#39\;s shoes ($5)\, or handprint work gloves ($10). Preorder your craft here or choose which craft you would like at the event. https://builderscorp.com/kids-workshop-fathers-day/ https://www.facebook.com/events/1192209514236031/
LOCATION:Builders 4600 2nd Ave Kearney\, Ne
UID:e.1404.16537
SEQUENCE:3
DTSTAMP:20260426T004047Z
URL:https://members.kearneycoc.org/events/details/build-a-gift-for-dad-builders-kids-workshop-16537
END:VEVENT

END:VCALENDAR
