BEGIN:VCALENDAR
VERSION:2.0
PRODID:-//ChamberMaster//Event Calendar 2.0//EN
METHOD:PUBLISH
X-PUBLISHED-TTL:P3D
REFRESH-INTERVAL:P3D
CALSCALE:GREGORIAN
BEGIN:VEVENT
DTSTART:20220507T150000Z
DTEND:20220507T170000Z
X-MICROSOFT-CDO-ALLDAYEVENT:FALSE
SUMMARY:Builders Annual Deck Day!
DESCRIPTION:Expand your home\, create some space. Builders annual decking sale is May 4th through May 7th!\n\n\n\nGet inspired\, get a plan\, and get building with the finest selection of decking. During this event get up to 15% back with a qualifying deck purchase. Local expert Josh Johnson will be at Builders in Kearney Saturday\, May 7th from 10 am - 12 pm to answer all your decking questions.\n\n\n\nDon't Miss Deck Days at Builders!
X-ALT-DESC;FMTTYPE=text/html:<strong><span style="font-size:12.0pt">Expand your home\, create some space. Builders annual decking sale is May 4th through May 7th!<br />\n<br />\nGet inspired\, get a plan\, and get building with the finest selection of decking. During this event get up to 15% back with a qualifying deck purchase. Local expert Josh Johnson will be at Builders in Kearney Saturday\, May 7th from 10 am - 12 pm to answer all your decking questions.<br />\n<br />\nDon&#39\;t Miss Deck Days at Builders!&nbsp\;&nbsp\;</span></strong>
LOCATION:Builders 4600 2nd Avenue Kearney\, NE 68847
UID:e.1404.19679
SEQUENCE:3
DTSTAMP:20260423T113444Z
URL:https://members.kearneycoc.org/events/details/builders-annual-deck-day-19679
END:VEVENT

END:VCALENDAR
