BEGIN:VCALENDAR
VERSION:2.0
PRODID:-//ChamberMaster//Event Calendar 2.0//EN
METHOD:PUBLISH
X-PUBLISHED-TTL:P3D
REFRESH-INTERVAL:P3D
CALSCALE:GREGORIAN
BEGIN:VEVENT
DTSTART:20130518T150000Z
DTEND:20130518T160000Z
X-MICROSOFT-CDO-ALLDAYEVENT:FALSE
SUMMARY:Builders Deck Clinic
DESCRIPTION:Learn what it takes to build your own Deck! Builders has a Timbertech product representative on hand to show you what you will need and how to make it happen.
X-ALT-DESC;FMTTYPE=text/html:Learn what it takes to build your own Deck! Builders has a Timbertech product representative on hand to show you what you will need and how to make it happen. 
LOCATION:Builders 4600 2nd Avenue Kearney
UID:e.1404.3193
SEQUENCE:3
DTSTAMP:20260424T122239Z
URL:https://members.kearneycoc.org/events/details/builders-deck-clinic-05-18-2013-3193
END:VEVENT

END:VCALENDAR
