BEGIN:VCALENDAR
VERSION:2.0
PRODID:-//ChamberMaster//Event Calendar 2.0//EN
METHOD:PUBLISH
X-PUBLISHED-TTL:P3D
REFRESH-INTERVAL:P3D
CALSCALE:GREGORIAN
BEGIN:VEVENT
DTSTART:20130615T150000Z
DTEND:20130615T180000Z
X-MICROSOFT-CDO-ALLDAYEVENT:FALSE
SUMMARY:Builders Father's Day Kids Toolbox workshop
DESCRIPTION:KIDS! Want a great gift idea for the best Dad ever? Build a toolbox for him for Father's Day! Come to Builders in Kearney on Saturday\, June 15 from 10am to 1pm. We have toolbox kits that we will help you put together! We've got the tools you need and we've provide the help to get your project done just right for Dad!
X-ALT-DESC;FMTTYPE=text/html:KIDS! Want a great gift idea for the best Dad ever? Build a toolbox for him for Father&#39\;s Day! Come to Builders in Kearney on Saturday\, June 15 from 10am to 1pm. We have toolbox kits that we will help you put together! We&#39\;ve got the tools you need and we&#39\;ve provide the help to get your project done just right for Dad! 
LOCATION:Builders in Kearney 4600 2nd Avenue
UID:e.1404.3205
SEQUENCE:3
DTSTAMP:20260424T081357Z
URL:https://members.kearneycoc.org/events/details/builders-father-s-day-kids-toolbox-workshop-06-15-2013-3205
END:VEVENT

END:VCALENDAR
