BEGIN:VCALENDAR
VERSION:2.0
PRODID:-//ChamberMaster//Event Calendar 2.0//EN
METHOD:PUBLISH
X-PUBLISHED-TTL:P3D
REFRESH-INTERVAL:P3D
CALSCALE:GREGORIAN
BEGIN:VEVENT
DTSTART:20130525T150000Z
DTEND:20130525T160000Z
X-MICROSOFT-CDO-ALLDAYEVENT:FALSE
SUMMARY:Builders Rainbird Sprinkler workshop
DESCRIPTION:Thinking about putting in underground sprinklers in your yard? We can help you plan\, purchase and install your automatic sprinkler system. Stop in our plumbing department before the clinic to pick up your sprinkler design form or go to our website at buildersne.com to print one. Complete it according to your lawn size and layout\, and bring it back with you to the workshop! Our Rainbird representative will answer any questions you have before you get started!
X-ALT-DESC;FMTTYPE=text/html:Thinking about putting in underground sprinklers in your yard? We can help you plan\, purchase and install your automatic sprinkler system. Stop in our plumbing department before the clinic to pick up your sprinkler design form or go to our website at buildersne.com to print one. Complete it according to your lawn size and layout\, and bring it back with you to the workshop! Our Rainbird representative will answer any questions you have before you get started!
LOCATION:Builders 4600 2nd Avenue Kearney
UID:e.1404.3194
SEQUENCE:3
DTSTAMP:20260424T123731Z
URL:https://members.kearneycoc.org/events/details/builders-rainbird-sprinkler-workshop-05-25-2013-3194
END:VEVENT

END:VCALENDAR
