BEGIN:VCALENDAR
VERSION:2.0
PRODID:-//ChamberMaster//Event Calendar 2.0//EN
METHOD:PUBLISH
X-PUBLISHED-TTL:P3D
REFRESH-INTERVAL:P3D
CALSCALE:GREGORIAN
BEGIN:VEVENT
DTSTART:20121108T230000Z
DTEND:20121109T010000Z
X-MICROSOFT-CDO-ALLDAYEVENT:FALSE
SUMMARY:Business After Hours: Alpha Rehabilitation
DESCRIPTION:Join Alpha Rehab for the Chamber's premier networking event: Business After Hours
X-ALT-DESC;FMTTYPE=text/html:Join Alpha Rehab for the Chamber&#39\;s premier networking event: Business After Hours
LOCATION:Alpha Rehab is located at 920 East 56th St Building A
UID:e.1404.1936
SEQUENCE:3
DTSTAMP:20260424T204952Z
URL:https://members.kearneycoc.org/events/details/business-after-hours-alpha-rehabilitation-11-08-2012-1936
END:VEVENT

END:VCALENDAR
