BEGIN:VCALENDAR
VERSION:2.0
PRODID:-//ChamberMaster//Event Calendar 2.0//EN
METHOD:PUBLISH
X-PUBLISHED-TTL:P3D
REFRESH-INTERVAL:P3D
CALSCALE:GREGORIAN
BEGIN:VEVENT
DTSTART:20130708T220000Z
DTEND:20130709T000000Z
X-MICROSOFT-CDO-ALLDAYEVENT:FALSE
SUMMARY:Business After Hours: Kearney Glass
DESCRIPTION:Join Kearney Glass in downtown Kearney for Business After Hours.  Hors d'oeuvres & adult beverages will be served to all attendees and tours of the shop will be conducted.
X-ALT-DESC;FMTTYPE=text/html:Join Kearney Glass in downtown Kearney for Business After Hours. &nbsp\;Hors d&#39\;oeuvres &amp\; adult beverages will be served to all attendees and tours of the shop will be conducted.
LOCATION:16 East 23rd Street in Downtown Kearney
UID:e.1404.3231
SEQUENCE:3
DTSTAMP:20260424T081555Z
URL:https://members.kearneycoc.org/events/details/business-after-hours-kearney-glass-07-08-2013-3231
END:VEVENT

END:VCALENDAR
